BEGIN:VCALENDAR
VERSION:2.0
PRODID:-//Squarespace Inc/Squarespace 6//v6//EN
BEGIN:VEVENT
UID:5b1b8e160e2e7242ed96b227@squarespace.com
DTSTAMP:20180706T031528Z
DTSTART:20180722T033000Z
DTEND:20180722T053000Z
SUMMARY:ROSE PRUNING WORKSHOP
GEO:-37.8576;145.037837
LOCATION:Town and Country Gardens\, 1311 High Street\, Malvern\, VIC\, 3144
 \, Australia
END:VEVENT
END:VCALENDAR
